BEGIN:VCALENDAR
VERSION:2.0
PRODID:-//http://hlinc.org.au///NONSGML kigkonsult.se iCalcreator 2.10.15//
METHOD:PUBLISH
BEGIN:VEVENT
UID:20200302T054435UTC-5529jLcejf@http://hlinc.org.au/
DTSTAMP:20200302T054435Z
DESCRIPTION:What are levels of evidence and why should I care about them?\n
 Come to this session to learn about the various levels of evidence availab
 le\, how they differ from grades of recommendation\, and how to apply them
 .\nPresented by Catherine Voutier\, Clinical Librarian\, Royal Melbourne H
 ospital http://hlinc.org.au/events/past-events/event/2-evidence-the-import
 ance-of-hierarchies
DTSTART:20140527T143000Z
DTEND:20140527T163000Z
LOCATION:St Vincent's Hospital\, Aikenhead Wing\, Ground floor\, Meeting Ro
 om 1\, 27 Victoria Pde Fitzroy (27 Victoria Parade\, Fitzroy VIC 3065\, Au
 stralia)
SUMMARY:EVIDENCE: THE IMPORTANCE OF HIERARCHIES
URL:http://hlinc.org.au/events/past-events/event/2-evidence-the-importance-
 of-hierarchies
END:VEVENT
END:VCALENDAR
