BEGIN:VCALENDAR
VERSION:2.0
PRODID:-//http://hlinc.org.au///NONSGML kigkonsult.se iCalcreator 2.10.15//
METHOD:PUBLISH
BEGIN:VEVENT
UID:20200302T054306UTC-9422C282aG@http://hlinc.org.au/
DTSTAMP:20200302T054306Z
DESCRIPTION:\nTake time to listen\, talk and share ideas with your peers\nA
 n opportunity for peer learning\, networking\, open dialogue and the excha
 nging of ideas to assist managers in the ever changing landscape of librar
 ies and health.\nJoin us at the inaugural&nbsp\; Health Library Managers F
 orum\, in Melbourne.\n&nbsp\;\nFrom a recent survey of library managers on
  issues important to them\, a number of key themes were generated.&nbsp\; 
 This has resulted into a program that promises to be engaging and thought 
 provoking for all managers\, new and old:\n&nbsp\;\nTopics\n·&nbsp\;&nbsp\
 ;&nbsp\;&nbsp\;&nbsp\;&nbsp\;&nbsp\;&nbsp\;&nbsp\;Budgeting:&nbsp\; friend
  or foe?\n·&nbsp\;&nbsp\;&nbsp\;&nbsp\;&nbsp\;&nbsp\;&nbsp\;&nbsp\;&nbsp\;
 Value validated: focusing on what really matters\n·&nbsp\;&nbsp\;&nbsp\;&n
 bsp\;&nbsp\;&nbsp\;&nbsp\;&nbsp\;&nbsp\;Dealing with publishers: playing y
 our hand wisely\n·&nbsp\;&nbsp\;&nbsp\;&nbsp\;&nbsp\;&nbsp\;&nbsp\;&nbsp\;
 &nbsp\;Smarter education: integrating\, delivering and stepping into the g
 aps\n&nbsp\;\nWhen: Friday 8th&nbsp\;July 2016\n&nbsp\;\nTime:&nbsp\;9.30a
 m-4.30pm. Registration desk opens 9.00am\n&nbsp\;\nWhere:\nSeminar Room 1\
 , Function and Convention Centre\nRoyal Melbourne Hospital\n300 Grattan St
 reet Parkville 3050\nPublic Transport Information:&nbsp\;https://www.therm
 h.org.au/patients-visitors/coming-hospital/public-transport-city-campus\n&
 nbsp\;\nCatering:&nbsp\;Morning tea\, lunch and refreshments provided.\n&n
 bsp\;\nRSVP:&nbsp\;Email&nbsp\;Jeremy.Taylor@svha.org.au&nbsp\;by Friday 2
 5th&nbsp\;June 2016. Interstate colleagues are welcome to attend.\n&nbsp\;
 \nWe would like to thank&nbsp\;Health Libraries Inc&nbsp\;for their kind s
 ponsorship. This has allowed us to host this forum at no charge for attend
 ees. http://hlinc.org.au/events/past-events/event/259-health-library-manag
 ers-forum
DTSTART:20160707T233000Z
DTEND:20160708T063000Z
LOCATION:Seminar room 2\, Function and Convention Centre\, Royal Melbourne 
 Hospital (300 Grattan St\, Parkville VIC 3052\, Australia)
SUMMARY:Health Library Managers Forum 
URL:http://hlinc.org.au/events/past-events/event/259-health-library-manager
 s-forum
END:VEVENT
END:VCALENDAR
