BEGIN:VCALENDAR
VERSION:2.0
PRODID:-//http://hlinc.org.au///NONSGML kigkonsult.se iCalcreator 2.10.15//
METHOD:PUBLISH
BEGIN:VEVENT
UID:20200302T054336UTC-0088IsssX9@http://hlinc.org.au/
DTSTAMP:20200302T054336Z
DESCRIPTION:12th Health Libraries Inc. Conference\nState Library of Victori
 a\, Melbourne\nFriday 23 October 2015\n“Breaking out of your shell”\n  \nW
 HEN: Friday 23rd October 2015\nWHAT: The theme this year is related to emb
 edded librarianship\, innovative projects that make a real impact\, value 
 added services\, cooperation\, learning from failures and successes.\nPROG
 RAM: View program - updated\nVENUE:\nState Library of Victoria 328 Swansto
 n Street Melbourne\, VIC 3000\nTIME: Registration and Trade Show opens at 
 8:30am. Conference starts at 9:30am\nCOST: HLI Members - $130\nNon Members
  - $175\nCONFERENCE DINNER VENUE:&nbsp\; SAHARA -  Set menu at $40 (Drinks
  not included)\nBOOKINGS: Closed\nCredit card bookings accepted (please no
 te 30c TryBooking Fee Applies). \nPayment via Invoice available. Please ta
 ke note of instructions on TryBooking registration page to arrange invoici
 ng. \nFOR FURTHER INFORMATION: Di Carr 03 9696 1210 diannercarr@bigpond.co
 m or Kathryn Rough 03 8405 8726 kathryn.rough@nh.org.au  http://hlinc.org.
 au/events/past-events/event/26-12th-health-libraries-inc-conference-regist
 rations-now-closed
DTSTART:20151022T233000Z
DTEND:20151023T070000Z
LOCATION:State Library of Victoria 328 Swanston Street Melbourne\, Vic 3000
  (State Library of Victoria\, 328 Swanston Street\, Melbourne VIC 3000\, A
 ustralia)
SUMMARY:12th Health Libraries Inc. Conference - REGISTRATIONS NOW CLOSED
URL:http://hlinc.org.au/events/past-events/event/26-12th-health-libraries-i
 nc-conference-registrations-now-closed
END:VEVENT
END:VCALENDAR
