BEGIN:VCALENDAR
VERSION:2.0
PRODID:-//http://hlinc.org.au///NONSGML kigkonsult.se iCalcreator 2.10.15//
METHOD:PUBLISH
BEGIN:VEVENT
UID:20200302T054250UTC-3919ATbpdS@http://hlinc.org.au/
DTSTAMP:20200302T054250Z
DESCRIPTION:&nbsp\;\nThe Library &amp\; Systematic Reviews: hints\, tricks 
 and what you need to know to make a real difference&nbsp\; [Now FULL]\n&nb
 sp\;\nPresented by Lorena Romero\, Senior Librarian Alfred Health The Ian 
 Potter Library.\nWith over 20 years experience of working in health librar
 ies\, Lorena has worked in many roles during this time but it is her excel
 lence in searching the literature and her eye for detail that has seen her
  co-author three Cochrane Systematic Reviews\, as well as over a dozen oth
 er SRs.\nThis presentation will focus on the practical side of Systematic 
 Reviews\; how does the librarian assist the review team\, how do you perfo
 rm a well-structured and thorough systematic review search strategy and ho
 w do you get your name on that final product! Lorena will also discuss the
  techniques she uses to teach Systematic Reviews to her clients and the im
 pact and value this has on her library service.&nbsp\; This is an updated 
 session with new examples and hints &amp\; tips.\nWHEN: Thursday 25th Augu
 st 2016\nTIME: 9.30am-12.30pmRegistration opens at 9.00amLecture style pre
 sentation 9.30am-11.30amDiscussion with colleagues over refreshments 11.30
 am-12.30pm (catering provided)\nVENUE:Classroom 3AMREP Education CentreAlf
 red Hospital55 Commercial RoadMELBOURNE VIC 3004http://www.amrep.org.au/ed
 centre/index.html\nCOSTS:*Limited to 40 spaces so get in early* [Now Full]
 HLI Members $40 Non HLI Members $55\nInvoice Payment via EFT or Cheque: Em
 ail your contact details to Elizabeth.Deans@mh.org.au to arrange your invo
 ice.\nPay on the Day: Cash Only! Email to confirm your place.\nFOR MORE IN
 FORMATION: Elizabeth Deans via email Elizabeth.Deans@mh.org.au or phone 03
  9342 8613. http://hlinc.org.au/events/past-events/event/260-the-library-s
 ystematic-reviews-hints-tricks-and-what-you-need-to-know-to-make-a-real-di
 fference
DTSTART:20160824T233000Z
DTEND:20160825T023000Z
LOCATION:AMREP Education Centre\, Alfred Hospital (55 Commercial Rd\, Melbo
 urne VIC 3004\, Australia)
SUMMARY:The Library & Systematic Reviews: hints\, tricks and what you need 
 to know to make a real difference
URL:http://hlinc.org.au/events/past-events/event/260-the-library-systematic
 -reviews-hints-tricks-and-what-you-need-to-know-to-make-a-real-difference
END:VEVENT
END:VCALENDAR
