BEGIN:VCALENDAR
VERSION:2.0
PRODID:-//http://hlinc.org.au///NONSGML kigkonsult.se iCalcreator 2.10.15//
METHOD:PUBLISH
BEGIN:VEVENT
UID:20200302T054301UTC-81867mXk5c@http://hlinc.org.au/
DTSTAMP:20200302T054301Z
DESCRIPTION:&nbsp\;\nOn behalf of the HLInc Committee\, we would like to in
 vite all Health Libraries Inc members and partners to our mid-year dinner.
 &nbsp\;Place: The Pumphouse Hotel&nbsp\;128 Nicholson Street&nbsp\;Fitzroy
  3065&nbsp\;http://pumphousehotel.com/RSVP: Laura Foley\,&nbsp\;lfoley@anz
 ca.edu.au&nbsp\;by 22nd July 2016The Pumphouse Hotel serves traditional pu
 b fare as well as modern and imaginative dishes with a touch of European f
 lair.&nbsp\;Meals and drinks are at your own expense.&nbsp\;This mid-year 
 event will be a great opportunity to catch-up with old and new colleagues 
 in the health library sector.&nbsp\;We hope you can make it!&nbsp\;Kind re
 gards\,&nbsp\;Laura&nbsp\;HLInc Secretary&nbsp\; http://hlinc.org.au/event
 s/past-events/event/262-hlinc-mid-year-dinner-invitation
DTSTART:20160729T083000Z
DTEND:20160729T120000Z
LOCATION:Pumphouse Hotel Fitzroy ()
SUMMARY:HLInc mid-year dinner invitation
URL:http://hlinc.org.au/events/past-events/event/262-hlinc-mid-year-dinner-
 invitation
END:VEVENT
END:VCALENDAR
