BEGIN:VCALENDAR
VERSION:2.0
PRODID:-//http://hlinc.org.au///NONSGML kigkonsult.se iCalcreator 2.10.15//
METHOD:PUBLISH
BEGIN:VEVENT
UID:20200302T054142UTC-6189sdvgDU@http://hlinc.org.au/
DTSTAMP:20200302T054142Z
DESCRIPTION:&nbsp\;\nHLI / OVID are pleased to offer another training oppor
 tunity\, building on new features and products available in the health car
 e sector.\n&nbsp\;\nNew trends in research - scoping reviews\, drug name c
 hanges and text mining\nProgram:\n- Ovid product and platform update\n- Ch
 anges to drug naming in Australia and what this means for drug searches\n-
  Using Ovid for scoping reviews\n- Text mining\n&nbsp\;Registrations now o
 pen\nRegister your interest by completing the form\, http://tools.ovid.com
 /hli/\nIf you have issues viewing the form\, please rsvp to&nbsp\;james.ta
 ylor@wolterskluwer.com\n&nbsp\; http://hlinc.org.au/events/past-events/eve
 nt/267-new-trends-in-research-registrations-now-open
DTSTART:20170811T033000Z
DTEND:20170811T060000Z
LOCATION: ()
SUMMARY:New trends in research - registrations now open
URL:http://hlinc.org.au/events/past-events/event/267-new-trends-in-research
 -registrations-now-open
END:VEVENT
END:VCALENDAR
