BEGIN:VCALENDAR
VERSION:2.0
PRODID:-//http://hlinc.org.au///NONSGML kigkonsult.se iCalcreator 2.10.15//
METHOD:PUBLISH
BEGIN:VEVENT
UID:20200302T054152UTC-5848oHIdUu@http://hlinc.org.au/
DTSTAMP:20200302T054152Z
DESCRIPTION:&nbsp\;\nOn behalf of the HLInc Committee\, we would like to in
 vite all Health Libraries Inc members and partners to our mid-year dinner.
 &nbsp\;Place: The Pumphouse Hotel&nbsp\;128 Nicholson Street&nbsp\;Fitzroy
  3065&nbsp\;http://pumphousehotel.com/RSVP:&nbsp\;Kit Kavanagh\,&nbsp\;Kit
 .Kavanagh-Ryan@adf.org.au&nbsp\;by 23 June 2017.The Pumphouse Hotel serves
  traditional pub fare as well as modern and imaginative dishes with a touc
 h of European flair.&nbsp\;Meals and drinks are at your own expense.&nbsp\
 ;This mid-year event will be a great opportunity to catch-up with old and 
 new colleagues in the health library sector.&nbsp\;We hope you can make it
 !&nbsp\;Kind regards\,&nbsp\;Kit &nbsp\;HLInc Secretary&nbsp\; http://hlin
 c.org.au/events/past-events/event/271-hlinc-mid-year-dinner-invitation
DTSTART:20170630T083000Z
DTEND:20170630T120000Z
LOCATION:Pumphouse Hotel Fitzroy ()
SUMMARY:HLInc mid-year dinner invitation
URL:http://hlinc.org.au/events/past-events/event/271-hlinc-mid-year-dinner-
 invitation
END:VEVENT
END:VCALENDAR
