BEGIN:VCALENDAR
VERSION:2.0
PRODID:-//http://hlinc.org.au///NONSGML kigkonsult.se iCalcreator 2.10.15//
METHOD:PUBLISH
BEGIN:VEVENT
UID:20200302T054131UTC-2162JxCOOv@http://hlinc.org.au/
DTSTAMP:20200302T054131Z
DESCRIPTION:The Forum is an opportunity for peer learning\, networking\, op
 en dialogue and the exchanging of ideas to assist managers in the ever cha
 nging landscape of libraries and health.\nInvitations for the 2017 Forum h
 ave been finalised. This year we will be discussing negotiating skills\, a
 nd getting the right skill mix for your library. \n&nbsp\; http://hlinc.or
 g.au/events/past-events/event/272-health-library-managers-forum-2017
DTSTART:20170817T230000Z
DTEND:20170818T063000Z
LOCATION:Seminar room 2\, Function and Convention Centre\, Royal Melbourne 
 Hospital (300 Grattan St\, Parkville VIC 3052\, Australia)
SUMMARY:Health Library Managers Forum - 2017
URL:http://hlinc.org.au/events/past-events/event/272-health-library-manager
 s-forum-2017
END:VEVENT
END:VCALENDAR
