BEGIN:VCALENDAR
VERSION:2.0
PRODID:-//http://hlinc.org.au///NONSGML kigkonsult.se iCalcreator 2.10.15//
METHOD:PUBLISH
BEGIN:VEVENT
UID:20200302T054049UTC-7622skVjpx@http://hlinc.org.au/
DTSTAMP:20200302T054049Z
DESCRIPTION:14th Health Libraries Inc. Conference\nState Library of Victori
 a\, Melbourne\nFriday 20th October 2017\n&nbsp\;\n'Through the looking gla
 ss - reflections and refractions in health libraries'\n&nbsp\;\nWe are exc
 ited to be able to invite you to join us for our 14th Health Libraries Inc
  Conference on 20th October 2017. Our theme this year aims to inspire pape
 rs and posters that reflect on success in weathering change\, or how we ha
 ve overcome moments of disconnection and distortion. We want to learn more
  about how we – as knowledge management professionals\, as subject special
 ists\, as information literacy educators\, as people in the health library
  space – view ourselves. As a profession we regularly move through our org
 anisations and our vendors re-structures and endure significant change – w
 hat have we learnt while doing this? What do we see that mirrors success f
 or our professions future? For this conference\, we want to peer through t
 he looking glass and reflect over the past year.\nOur Keynote Speaker this
  year is Dr Simon Judkins\, Clinical Director of Emergency\, Austin Health
  and the Chair of our Choosing Wisely initiative. He is President-Elect\, 
 Council of Advocacy\, Practice and Partnerships\, ACEM (Australasian Colle
 ge for Emergency Medicine). Simon will provide his perspective on how libr
 aries can play a role in hospital initiatives such as the Choosing Wisely 
 campaign.\n&nbsp\;\nConference Program 2017\n\n&nbsp\;\nRegistration via T
 ryBooking details:\nWe are using TryBookings again this year\, you can eit
 her pay via credit card or request an invoice via this link - TryBooking-R
 egistration\nIf you have any difficulties please contact us at hlinccom@gm
 ail.com\nLook forward to seeing you on the day\,\nAngela &amp\; Jess\n&nbs
 p\;\n&nbsp\; http://hlinc.org.au/events/past-events/event/274-14th-health-
 libraries-inc-conference-2017-registrations-now-open
DTSTART:20171019T223000Z
DTEND:20171020T070000Z
LOCATION:State Library of Victoria 328 Swanston Street Melbourne\, Vic 3000
  (State Library of Victoria\, 328 Swanston Street\, Melbourne VIC 3000\, A
 ustralia)
SUMMARY:14th Health Libraries Inc. Conference 2017 - Registrations Now Open
URL:http://hlinc.org.au/events/past-events/event/274-14th-health-libraries-
 inc-conference-2017-registrations-now-open
END:VEVENT
END:VCALENDAR
