BEGIN:VCALENDAR
VERSION:2.0
PRODID:-//http://hlinc.org.au///NONSGML kigkonsult.se iCalcreator 2.10.15//
METHOD:PUBLISH
BEGIN:VEVENT
UID:20200302T054033UTC-1361JUGnuv@http://hlinc.org.au/
DTSTAMP:20200302T054033Z
DESCRIPTION:&nbsp\;\nOn behalf of the HLInc Committee\, we would like to in
 vite all Health Libraries Inc. members to our mid-year Catch-Up Drinks.\n&
 nbsp\;\nVenue:&nbsp\;RMH Function and Convention Centre\nDate and time: 31
 st August 2018 at 4 - 5:30 pm\nRSVP: HLInc Secretary - Jeremy Taylor\n&nbs
 p\;\nThis mid-year event will be held directly following the HLI Managers 
 Forum\, and will commence with a brief presentation from event sponsor OVI
 D.We hope you can come along\, it will be a great opportunity to catch-up 
 with old and new colleagues in the health library sector.\n&nbsp\; http://
 hlinc.org.au/events/past-events/event/280-hli-mid-year-catch-up
DTSTART:20180831T060000Z
DTEND:20180831T073000Z
LOCATION:Seminar room 2\, Function and Convention Centre\, Royal Melbourne 
 Hospital (300 Grattan St\, Parkville VIC 3052\, Australia)
SUMMARY:HLI mid-year catch up 
URL:http://hlinc.org.au/events/past-events/event/280-hli-mid-year-catch-up
END:VEVENT
END:VCALENDAR
