BEGIN:VCALENDAR
VERSION:2.0
PRODID:-//http://hlinc.org.au///NONSGML kigkonsult.se iCalcreator 2.10.15//
METHOD:PUBLISH
BEGIN:VEVENT
UID:20200302T054042UTC-8981Vx04lp@http://hlinc.org.au/
DTSTAMP:20200302T054042Z
DESCRIPTION:&nbsp\;\n&nbsp\;Now in its third year\, the Managers Forum prov
 ides an opportunity for Library Managers to come together for open discuss
 ion\, peer learning\, information sharing and networking.\n&nbsp\;\n\n\n\n
 \nProgram:\n\n\n\n\n9.30am - 10.30am\n\n\nBalancing Discovery Access and C
 ontrol. A panel of librarians from the health and university sectors will 
 discuss issues surrounding the platforms and tools we provide for our clie
 nts to find and use our resources. Join the discussion with your ideas and
  comments.\n\n\n\n\n10.30am - 11.00am\n\n\nMorning tea\n\n\n\n\n11.00am - 
 12.00pm\n\n\nBalancing Discovery Access and Control cont’d.\n\n\n\n\n12.00
 pm – 1.30pm\n\n\nLunch\n\n\n\n\n1.30pm &nbsp\;- 2.30pm\n\n\nMentoring the 
 next generation In our libraries and in our profession. General discussion
 \n\n\n\n\n2.30pm – 3.00pm\n\n\nAfternoon tea\n\n\n\n\n3.00pm - 4.00pm&nbsp
 \;\n\n\nWhat do our universities teach about becoming a leader or manager 
 in libraries? What do we think they should be teaching?  RMIT’s Jane Garne
 r will join the discussion\n\n\n\n\n&nbsp\;\nPlease note:  Immediately fol
 lowing the Managers Forum\, at 4pm HLI will be holding the Mid-Year Catch-
 up Drinks event in the foyer of the RMH Function and Convention Centre\, s
 ponsored by Ovid. Please stay for this event. http://hlinc.org.au/events/p
 ast-events/event/281-health-library-managers-forum-2018
DTSTART:20180830T233000Z
DTEND:20180831T060000Z
LOCATION:Seminar room 2\, Function and Convention Centre\, Royal Melbourne 
 Hospital (300 Grattan St\, Parkville VIC 3052\, Australia)
SUMMARY:Health Library Managers Forum - 2018
URL:http://hlinc.org.au/events/past-events/event/281-health-library-manager
 s-forum-2018
END:VEVENT
END:VCALENDAR
