BEGIN:VCALENDAR
VERSION:2.0
PRODID:-//http://hlinc.org.au///NONSGML kigkonsult.se iCalcreator 2.10.15//
METHOD:PUBLISH
BEGIN:VEVENT
UID:20200302T054356UTC-3642A6wUvc@http://hlinc.org.au/
DTSTAMP:20200302T054356Z
DESCRIPTION:&nbsp\;\nJoin us for dinner 31 July 2015\n&nbsp\;\nOn behalf of
  the HLInc Committee\, we would like to invite all Health Libraries Inc me
 mbers and partners to our mid-year dinner where we will present the 2015 H
 onorary Life Member Award.\n&nbsp\;\nThis event will be held on Friday Jul
 y 31. Please note that the previous date circulated for this award's dinne
 r was incorrect.\n&nbsp\;\nRSVP to&nbsp\;Laura Foley: lfoley@anzca.edu.au
 \nby July 17th\, 2015\n&nbsp\;\nThe venue has a relaxed feel that is ideal
  for large groups who want to get together for as chat\, along with some l
 ovely food and wine.\nPlease view current dinner menu and drinks list.\nMe
 als and drinks are at your own expense.\n&nbsp\;\nThis mid-year event will
  be a great opportunity to catch-up with old and new colleagues in the hea
 lth llibrary sector.\nWe hope you can make it!\n\n http://hlinc.org.au/eve
 nts/past-events/event/47-honorary-life-member-award-dinner
DTSTART:20150731T183000Z
DTEND:20150731T220000Z
LOCATION: ()
SUMMARY:Honorary Life Member Award Dinner
URL:http://hlinc.org.au/events/past-events/event/47-honorary-life-member-aw
 ard-dinner
END:VEVENT
END:VCALENDAR
