BEGIN:VCALENDAR
VERSION:2.0
PRODID:-//http://hlinc.org.au///NONSGML kigkonsult.se iCalcreator 2.10.15//
METHOD:PUBLISH
BEGIN:VEVENT
UID:20200302T054347UTC-9770LE6GfE@http://hlinc.org.au/
DTSTAMP:20200302T054347Z
DESCRIPTION:&nbsp\;\nPresented by Lorena Romero\, Senior Librarian Alfred H
 ealth The Ian Potter Library.With over 20 years experience of working in h
 ealth libraries\, Lorena has worked in many roles during this time but it 
 is her excellence in searching the literature and her eye for detail that 
 has seen her co-author three Cochrane Systematic Reviews\, as well as over
  a dozen other SRs.\nThis presentation will focus on the practical side of
  Systematic Reviews\; how does the librarian assist the review team\, how 
 do you perform a well structured and thorough systematic review search str
 ategy and how do you get your name on that final product! Lorena will also
  discuss the techniques she uses to teach Systematic Reviews to her client
 s and the impact and value this has on her library service.\nWHEN: Friday 
 28th August 2015\nTIME: 9.30am-12.30pmRegistration opens at 9.00amLecture 
 style presentation 9.30am-11.30amDiscussion with colleagues over refreshme
 nts 11.30am-12.30pm (catering provided)\nNote: Alfred Hospital Library IT 
 Training Room (10 Computers) will remain open during the refreshment perio
 d for attendees to practice any hints &amp\; tricks learnt on the day. Lor
 ena will be available during this period for any informal discussions base
 d on her presentation.\nVENUE:Classroom 1AMREP Education CentreAlfred Hosp
 ital55 Commercial RoadMELBOURNE VIC 3004http://www.amrep.org.au/edcentre/i
 ndex.html\nCOSTS:*Limited to 40 spaces so get in earlyHLI Members $35Non H
 LI Members $50\nOnline Payment via Credit Card: TryBooking Event Page http
 ://www.trybooking.com/151049 (please note 30c TryBooking Fee applies)\nInv
 oice Payment via EFT or Cheque: Email your contact details to HLI Booking 
 Invoice Payment to kathryn.rough@nh.org.au to arrange your invoice\nPay on
  the Day: Cash Only! Email HLI Booking Pay on the Day to confirm your plac
 e\nFOR MORE INFORMATION: Kathryn Rough via email kathryn.rough@nh.org.au o
 r phone 03 8405 8726 http://hlinc.org.au/events/past-events/event/52-the-l
 ibrary-systematic-reviews-hints-tricks-and-what-you-need-to-know-to-make-a
 -real-difference
DTSTART:20150827T233000Z
DTEND:20150828T023000Z
LOCATION:Alfred Hospital  (The Alfred\, Melbourne VIC 3004\, Australia)
SUMMARY:The Library & Systematic Reviews: hints\, tricks and what you need 
 to know to make a real difference
URL:http://hlinc.org.au/events/past-events/event/52-the-library-systematic-
 reviews-hints-tricks-and-what-you-need-to-know-to-make-a-real-difference
END:VEVENT
END:VCALENDAR
