BEGIN:VCALENDAR
VERSION:2.0
PRODID:-//http://hlinc.org.au///NONSGML kigkonsult.se iCalcreator 2.10.15//
METHOD:PUBLISH
BEGIN:VEVENT
UID:20200302T054318UTC-9197dakMav@http://hlinc.org.au/
DTSTAMP:20200302T054318Z
DESCRIPTION:&nbsp\;\n&nbsp\;\nDownload presentation ppts here\n&nbsp\;\n2:0
 0pm sharp on 26th November 2015  CCH office - Level 4\, 461 Bourke Street\
 , Melbourne   Program   2.00pm - 2.45pm Using Ovid to prepare research for
  a systematic review  Allan Finn\, Senior Training Manager Asia-Pacific  M
 any researchers use the Ovid databases to collect references for their sys
 tematic reviews\, but what are the practical steps that we can follow when
  using Ovid for this purpose\, and how can the Ovid system help us with th
 e preparation of our search question and with translating the question int
 o a structured search.   15 minute break   3.00pm - 4.30pm Search filters 
 as a value-added service for Health Libraries  James Taylor\, Manager Sale
 s Engineering and Training Asia-Pacific  Search filters are a value-added 
 library service which can assist health librarians to expose researchers t
 o their expert knowledge of the content and resources without needing to b
 e physically present. This session will explore the search filters include
 d within the Medline\, Embase and PsychINFO databases on the Ovid platform
  in the form of clinical queriesdeveloped by the Health Information Resear
 ch Unit of McMaster University. In addition\, the process of sensitivity b
 ased on a 'gold standard' of citations will be demonstrated using freely a
 vailable tools\, including setting the filter in search links and search b
 oxes that can be embedded within library websites.   ***This session will 
 ideally include a practical component so please bring a laptop if possible
 .***   Followed by drinks.   Register your interest via link\, http://tool
 s.ovid.com/pd_registration/  ***Please check junk mail folder if you do no
 t receive registration confirmation***  http://hlinc.org.au/events/past-ev
 ents/event/56-joint-hli-ovid-pd-day
DTSTART:20151126T040000Z
DTEND:20151126T063000Z
LOCATION: ()
SUMMARY:Joint HLI / OVID PD Day
URL:http://hlinc.org.au/events/past-events/event/56-joint-hli-ovid-pd-day
END:VEVENT
END:VCALENDAR
