BEGIN:VCALENDAR
VERSION:2.0
PRODID:-//http://hlinc.org.au///NONSGML kigkonsult.se iCalcreator 2.10.15//
METHOD:PUBLISH
BEGIN:VEVENT
UID:20200302T054235UTC-3805g7ZbDf@http://hlinc.org.au/
DTSTAMP:20200302T054235Z
DESCRIPTION:13th Health Libraries Inc. Conference\nState Library of Victori
 a\, Melbourne\nFriday 21 October 2016\n'The (In)visible Library'\n&nbsp\;
 \nWe are excited to be able to invite you to join us for our 13th Health L
 ibraries Inc Conference on 21st October 2016.&nbsp\; Our theme this year a
 ims to inspire papers and posters related to making the library a core par
 t of an organisation where services and resources may be invisibly embedde
 d and/or&nbsp\;the physical and visible space reduced. How are we keeping 
 track of the impact on our organisation? Are we leading the way and contri
 buting\, initiating or collaborating on innovative projects? Has this lift
 ed our profile? As always\, library professionals are innovators\, doing m
 ore with less. It is generally accepted that breaking out of our tradition
 al service provision is a good thing\, but what does this really look like
  in practice? What are the real costs and benefits to the parties involved
 ? What is the difference between collaboration\, cooperation and partnersh
 ip? And what are the critical success factors? For this conference\, we wo
 uld like to see the scaffolding behind the culture shift.&nbsp\;\nOur Keyn
 ote Speaker this year is Dr Christopher Leung\, Medical Lead\, Clinical Ed
 ucation Unit\, Clinical Supervisor and Academic Lead Scholarly Selective P
 rogram School of Medicine University of Melbourne\, Gastroenterologist\, D
 epartment of Gastroenterology Austin Health. Chris works with and uses the
  Austin Health Sciences Library across all his roles and will provide his 
 perspective as a clinician\, educator\, researcher and author on how a lib
 rary is quintessential in supporting these activities. \nConference Progra
 m 2016  \n\nClick here to read abstracts\n&nbsp\;\nRegistration via TryBoo
 king details:\nWe are using TryBookings again this year\, you can either p
 ay via credit card or request an invoice via this link - https://www.trybo
 oking.com/79592    \nIf you have any difficulties please contact us at hli
 nccom@gmail.com\n&nbsp\;\nLook forward to seeing you on the day\, \nMichel
 e &amp\; Angela\n&nbsp\;\n&nbsp\; http://hlinc.org.au/events/past-events/e
 vent/57-13th-health-libraries-inc-conference-2016-program-registrations-no
 w-open
DTSTART:20161020T223000Z
DTEND:20161021T070000Z
LOCATION:State Library of Victoria 328 Swanston Street Melbourne\, Vic 3000
  (State Library of Victoria\, 328 Swanston Street\, Melbourne VIC 3000\, A
 ustralia)
SUMMARY:13th Health Libraries Inc. Conference 2016 Program - Registrations 
 Now Open
URL:http://hlinc.org.au/events/past-events/event/57-13th-health-libraries-i
 nc-conference-2016-program-registrations-now-open
END:VEVENT
END:VCALENDAR
