BEGIN:VCALENDAR
VERSION:2.0
PRODID:-//https://hlinc.org.au///NONSGML kigkonsult.se iCalcreator 2.10.15//
METHOD:PUBLISH
BEGIN:VEVENT
UID:20200302T055453UTC-4322ahsv5K@https://hlinc.org.au/
DTSTAMP:20200302T055453Z
DESCRIPTION:&nbsp\;\nFriday 20th October 2017\nState Library of Victoria\, 
 Melbourne\n&nbsp\;\n&nbsp\;\nCALL FOR ABSTRACTS\n&nbsp\;\nThrough the look
 ing glass - reflections and refractions in health libraries\n&nbsp\;\n'Now
 \, here\, you see\, it takes all the running you can do\, to keep in the s
 ame place.\nIf you want to get somewhere else\, you must run at least twic
 e as fast as that!'\n― Lewis Carroll\, Alice Through the Looking Glass\n&n
 bsp\;\n&nbsp\;The 2016 HLI Conference focused on library in(visibility) wi
 th innovative libraries presenting how they have made their services more 
 visible while providing a seamless and invisible experience.\n&nbsp\;\nIn 
 2017\, we want to peer through the looking glass and reflect over the past
  year. \n&nbsp\;\nMirrors can shed light\, be reflective\, provide an alte
 red image\, and they can shatter. We want to reflect on success in weather
 ing change\, or how we have overcome moments of disconnection and distorti
 on. We want to learn more about how we – as knowledge management professio
 nals\, as subject specialists\, as information literacy educators\, as peo
 ple in the health library space – view ourselves.  As a profession we regu
 larly move through our organisations and our vendors re-structures and end
 ure significant change – what have we learnt while doing this? What do we 
 see that mirrors success for our professions future?\n&nbsp\;\nWant to sha
 re your reflections with your colleagues?\nSubmit an abstract for a presen
 tation\, lightening talk\, or poster. Please download the Abstract submiss
 ion guidelines and apply using the Abstarct submission form:\nAbstract sub
 mission guidelines(Closed)\nAbstract submission form(Closed)\n&nbsp\;\nSub
 missions have been extended until 24 July.\nTo discuss your interest or to
  ask any questions please email both program co-ordinators:&nbsp\;\nangela
 .morais@svha.org.au&nbsp\;&amp\; jessica.ware@austin.org.au\nConference re
 gistrations will follow shortly.&nbsp\;\n&nbsp\;\nLook forward to hearing 
 from you\, Health Libraries Inc. Program Co-ordinators\,\nAngela Morais (P
 : 03 9231 2540) &amp\; Jessica Ware (03 9496 5252)\n&nbsp\;\n&nbsp\; https
 ://hlinc.org.au/events/past-events/event/273-14th-health-libraries-inc-con
 ference-2017-call-for-abstracts-closing-date-extended
DTSTART:20170601T230000Z
DTEND:20170724T130000Z
LOCATION:State Library of Victoria 328 Swanston Street Melbourne\, Vic 3000
  (State Library of Victoria\, 328 Swanston Street\, Melbourne VIC 3000\, A
 ustralia)
SUMMARY:14th Health Libraries Inc Conference 2017 - Call For Abstracts     
                                                                           
           **Closing Date Extended**
URL:https://hlinc.org.au/events/past-events/event/273-14th-health-libraries
 -inc-conference-2017-call-for-abstracts-closing-date-extended
END:VEVENT
END:VCALENDAR
