BEGIN:VCALENDAR
VERSION:2.0
PRODID:-//https://hlinc.org.au///NONSGML kigkonsult.se iCalcreator 2.10.15//
METHOD:PUBLISH
BEGIN:VEVENT
UID:20200302T055256UTC-62430MxNcL@https://hlinc.org.au/
DTSTAMP:20200302T055256Z
DESCRIPTION:&nbsp\;\nHLI / OVID are pleased to offer an exciting training o
 pportunity for 2018\n&nbsp\;\n&nbsp\;\nUsing Evidence to Inform Practice: 
 The Solution at Point of Care\, Point of Reference\, and Point of Learning
 \n&nbsp\;\nProgramme:\n2 pm&nbsp\;arrival:\nEvidence - Based Practise\nDr 
 Anne Dabrow Woods\, Chief Nurse of the Health\, Learning\, Research and Pr
 actice division of Wolters Kluwer\, will be opening with a keynote present
 ation on Evidence - Based Practise before handing over to James Taylor.\n&
 nbsp\;\n3 pm:&nbsp\;Afternoon tea\n&nbsp\;\n3: 30 pm:\nTools update: The O
 vid Reminer has been updated and relabelled the Ovid Citation Analyser\, w
 ith improvements to make it simpler to import citations into the tool. In 
 addition we have launched the Ovid Pharmacovigilance Tool for supporting p
 rimarily pharmacovigilance monitoring searches\, but which is useful for a
 ny form of pharmaceutical research. This session will provide an update on
  these tools and a practical workshop. Duration: 30 minutes\nQ&amp\;A with
  James\nWeb development for the library: building on the filters developme
 nt covered in previous PD events\, this session will show how to take the 
 next step of implementing a filter in a link or search box that can be sha
 red and used by all researchers. The session will include a workshop where
  we add some simple javascript to produce our own filter widget. No coding
  experience is required\, sample HTML files and an instruction manual will
  be provided. Duration: 30 minutes\n&nbsp\;\n&nbsp\;5 pm:&nbsp\;Close with
  drinks at the bar\n&nbsp\;\n&nbsp\;Registrations now open\n&nbsp\;\nRegis
 ter your interest by completing the form\,&nbsp\;http://tools.ovid.com/hli
 /\n&nbsp\;** Please note: some work place security settings may block this
  link. If this occurs\, please register using a device on a different netw
 ork**&nbsp\;\n&nbsp\;\n&nbsp\; https://hlinc.org.au/events/past-events/eve
 nt/292-joint-hli-ovid-pd-day-using-evidence-to-inform-practice
DTSTART:20180903T040000Z
DTEND:20180903T070000Z
LOCATION:Mantra Southbank (Swan Lake Room) (41 City Rd\, Southbank VIC 3006
 \, Australia)
SUMMARY:Joint HLI / OVID PD day - Using Evidence to Inform Practice
URL:https://hlinc.org.au/events/past-events/event/292-joint-hli-ovid-pd-day
 -using-evidence-to-inform-practice
END:VEVENT
END:VCALENDAR
