BEGIN:VCALENDAR
VERSION:2.0
PRODID:-//https://hlinc.org.au///NONSGML kigkonsult.se iCalcreator 2.10.15//
METHOD:PUBLISH
BEGIN:VEVENT
UID:20200302T055237UTC-108366Fp27@https://hlinc.org.au/
DTSTAMP:20200302T055237Z
DESCRIPTION:HLInc Managers and Emerging Leaders Forum\nFriday 14th June\nRo
 yal Melbourne Hospital\n\n&nbsp\; https://hlinc.org.au/events/past-events/
 event/301-hlinc-managers-and-emerging-leaders-forum
DTSTART:20190613T193400Z
DTEND:20190613T213400Z
LOCATION:Function and Convention Centre\, Royal Melbourne Hospital (Ground 
 Level North 300 Grattan Street Parkville Victoria)
SUMMARY:HLInc Managers and Emerging Leaders Forum
URL:https://hlinc.org.au/events/past-events/event/301-hlinc-managers-and-em
 erging-leaders-forum
END:VEVENT
END:VCALENDAR
