BEGIN:VCALENDAR
VERSION:2.0
PRODID:-//https://hlinc.org.au///NONSGML kigkonsult.se iCalcreator 2.10.15//
METHOD:PUBLISH
BEGIN:VEVENT
UID:20200302T055202UTC-7860MI38vc@https://hlinc.org.au/
DTSTAMP:20200302T055202Z
DESCRIPTION: https://hlinc.org.au/events/past-events/event/302-end-of-year-
 catch-up
DTSTART:20191115T080000Z
DTEND:20191122T100000Z
LOCATION:176 Little Lonsdale Street\, Melbourne  ()
SUMMARY:End of Year Catch Up
URL:https://hlinc.org.au/events/past-events/event/302-end-of-year-catch-up
END:VEVENT
END:VCALENDAR
