BEGIN:VCALENDAR
VERSION:2.0
PRODID:-//https://hlinc.org.au///NONSGML kigkonsult.se iCalcreator 2.10.15//
METHOD:PUBLISH
BEGIN:VEVENT
UID:20200302T055640UTC-1658h66aD8@https://hlinc.org.au/
DTSTAMP:20200302T055640Z
DESCRIPTION:&nbsp\;\nThis is to notify all Health Libraries Inc. members th
 at the 2015 AGM will be held on 23 October in conjunction with the Health 
 Libraries Inc Conference.\nVenue: State Library of Victoria328 Swanston St
 reetMelbourne VIC 3000\nTime: 1.50 pm\nAny items for the Agenda are to be 
 forwarded to Michele Gaca\, HLI President (details below) by 9 October 201
 5.\nAll Committee positions have been vacated. Those wishing to nominate f
 or the following positions should do so by contacting Michele Gaca by 9 Oc
 tober 2015 (this includes present Committee members who wish to renominate
 ).\nManagement Committee:PresidentSecretaryTreasurerMembership Co-ordinato
 rWeb editorHealth Inform EditorSocial media co-ordinatorPat Nakouz Award a
 dministratoreList moderatorMarketing co-ordinatorGeneral Committee/Special
  Projects\n(Need to be willing to attend monthly Committee meetings and ac
 tively participate in the management of HLI.)\nWe are also looking for peo
 ple interested in the following:\nHealth Inform Editorial Committee Member
 s Conference/Major Event Convenor\nThe above positions will report to the 
 Management Committee but may not be required to attend monthly Committee m
 eetings.\nHLI plays an important role in representing and supporting membe
 rs. To maintain and enhance this role we need people with certain skills\,
  interests or just plain enthusiasm to volunteer to help with our new vent
 ures. Please consider joining this dynamic group and nominate for any of t
 he above positions.\nAs part of reducing the impact on our environment\, t
 his year's Annual Report\, which includes the minutes of the previous AGM 
 and the current year's President's Report\, will be distributed to Health 
 Libraries Inc members in a portable document format prior to the AGM. An i
 temised agenda will also be circulated prior to the meeting. The Financial
  report will be presented at the AGM on the 23rd of October 2015. https://
 hlinc.org.au/events/past-events/event/55-2015-annual-general-meeting
DTSTART:20151023T035500Z
DTEND:20151023T041500Z
LOCATION:State Library of Victoria 328 Swanston Street Melbourne\, Vic 3000
  (State Library of Victoria\, 328 Swanston Street\, Melbourne VIC 3000\, A
 ustralia)
SUMMARY:2015 Annual General Meeting 
URL:https://hlinc.org.au/events/past-events/event/55-2015-annual-general-me
 eting
END:VEVENT
END:VCALENDAR
